BEGIN:VCALENDAR
PRODID:-//srbri10212//EN
VERSION:2.0
BEGIN:VEVENT
SUMMARY:British Bespoke Auctions: Timed Auction - Jewellery &amp; Silver
PRIORITY:0
CLASS:PUBLIC
DTSTART:20260825T140000Z
DTEND:20260903T140000Z
DESCRIPTION:
X-ALT-DESC;FMTTYPE=text/html:
LOCATION:British Bespoke Auctions Offices, at Avondale Self Storage, Hinton Road, Childswickham, Near Broadway, Worcestershire, WR12 7HZ, United Kingdom
END:VEVENT
END:VCALENDAR